{
 "currentVersion": 10.81,
 "serviceDescription": "Slope displayed on this map was generated from high accuracy elevation data acquired via Light Detection and Ranging (LiDAR) airborne platform in February 2023. The LiDAR was acquired with an elevation measurement approximately every 2 feet with a vertical accuracy of 6 inches. The slope map has a pixel resolution of 1-ft and shows slope based on LiDAR Digital ElevationModel elevation data from 2023. The slope map is overlaid on the LiDAR terrain to show topography. Besides slope, the map includes streams, ponds, wetlands, lakes, watersheds, park, trails, sinkholes, and current road network and building footprints for structures with a minimum area of 82 square feet. Updates to these features from 2015-2025 aerial photography. Contact the City of Columbia IT/GIS Division with questions about this data.",
 "mapName": "Slope",
 "description": "",
 "copyrightText": "Cartography by City of Columbia IT/GIS Office. Slope map created by the City of Columbia and the source LiDAR data provided by Boone County, Missouri. The source of rest of the data is the City of Columbia IT/GIS Division and Boone County Assessor Office.",
 "supportsDynamicLayers": false,
 "layers": [
  {
   "id": 0,
   "name": "Sinkholes",
   "parentLayerId": -1,
   "defaultVisibility": true,
   "subLayerIds": null,
   "minScale": 0,
   "maxScale": 0,
   "type": "Feature Layer",
   "geometryType": "esriGeometryPoint"
  },
  {
   "id": 1,
   "name": "Watershed Boundaries",
   "parentLayerId": -1,
   "defaultVisibility": true,
   "subLayerIds": null,
   "minScale": 0,
   "maxScale": 0,
   "type": "Feature Layer",
   "geometryType": "esriGeometryPolygon"
  },
  {
   "id": 2,
   "name": "Hydrography Streams",
   "parentLayerId": -1,
   "defaultVisibility": true,
   "subLayerIds": null,
   "minScale": 0,
   "maxScale": 0,
   "type": "Feature Layer",
   "geometryType": "esriGeometryPolyline"
  },
  {
   "id": 3,
   "name": "Hydrography Waterbodies",
   "parentLayerId": -1,
   "defaultVisibility": true,
   "subLayerIds": null,
   "minScale": 0,
   "maxScale": 0,
   "type": "Feature Layer",
   "geometryType": "esriGeometryPolygon"
  },
  {
   "id": 4,
   "name": "Trails",
   "parentLayerId": -1,
   "defaultVisibility": true,
   "subLayerIds": null,
   "minScale": 0,
   "maxScale": 0,
   "type": "Feature Layer",
   "geometryType": "esriGeometryPolyline"
  },
  {
   "id": 5,
   "name": "City Parks",
   "parentLayerId": -1,
   "defaultVisibility": true,
   "subLayerIds": null,
   "minScale": 0,
   "maxScale": 0,
   "type": "Feature Layer",
   "geometryType": "esriGeometryPolygon"
  },
  {
   "id": 6,
   "name": "State Parks",
   "parentLayerId": -1,
   "defaultVisibility": true,
   "subLayerIds": null,
   "minScale": 0,
   "maxScale": 0,
   "type": "Feature Layer",
   "geometryType": "esriGeometryPolygon"
  },
  {
   "id": 7,
   "name": "Structures",
   "parentLayerId": -1,
   "defaultVisibility": true,
   "subLayerIds": null,
   "minScale": 0,
   "maxScale": 0,
   "type": "Feature Layer",
   "geometryType": "esriGeometryPolygon"
  },
  {
   "id": 8,
   "name": "Public Sidewalks",
   "parentLayerId": -1,
   "defaultVisibility": true,
   "subLayerIds": null,
   "minScale": 0,
   "maxScale": 0,
   "type": "Feature Layer",
   "geometryType": "esriGeometryPolyline"
  },
  {
   "id": 9,
   "name": "Streets",
   "parentLayerId": -1,
   "defaultVisibility": true,
   "subLayerIds": null,
   "minScale": 0,
   "maxScale": 0,
   "type": "Feature Layer",
   "geometryType": "esriGeometryPolyline"
  },
  {
   "id": 10,
   "name": "Columbia Regional Airport Runways and Tarmac",
   "parentLayerId": -1,
   "defaultVisibility": true,
   "subLayerIds": null,
   "minScale": 0,
   "maxScale": 0,
   "type": "Feature Layer",
   "geometryType": "esriGeometryPolyline"
  },
  {
   "id": 11,
   "name": "COLT Railroad",
   "parentLayerId": -1,
   "defaultVisibility": true,
   "subLayerIds": null,
   "minScale": 0,
   "maxScale": 0,
   "type": "Feature Layer",
   "geometryType": "esriGeometryPolyline"
  },
  {
   "id": 12,
   "name": "Bridges",
   "parentLayerId": -1,
   "defaultVisibility": true,
   "subLayerIds": null,
   "minScale": 0,
   "maxScale": 0,
   "type": "Feature Layer",
   "geometryType": "esriGeometryPolygon"
  },
  {
   "id": 13,
   "name": "Park Driveways",
   "parentLayerId": -1,
   "defaultVisibility": true,
   "subLayerIds": null,
   "minScale": 0,
   "maxScale": 0,
   "type": "Feature Layer",
   "geometryType": "esriGeometryPolyline"
  },
  {
   "id": 14,
   "name": "Park Parking Lots",
   "parentLayerId": -1,
   "defaultVisibility": true,
   "subLayerIds": null,
   "minScale": 0,
   "maxScale": 0,
   "type": "Feature Layer",
   "geometryType": "esriGeometryPolyline"
  },
  {
   "id": 15,
   "name": "Right of Way",
   "parentLayerId": -1,
   "defaultVisibility": true,
   "subLayerIds": null,
   "minScale": 0,
   "maxScale": 0,
   "type": "Feature Layer",
   "geometryType": "esriGeometryPolygon"
  },
  {
   "id": 16,
   "name": "Columbia City Limits",
   "parentLayerId": -1,
   "defaultVisibility": true,
   "subLayerIds": null,
   "minScale": 0,
   "maxScale": 0,
   "type": "Feature Layer",
   "geometryType": "esriGeometryPolygon"
  }
 ],
 "tables": [],
 "spatialReference": {
  "wkid": 102697,
  "latestWkid": 102697
 },
 "singleFusedMapCache": true,
 "tileInfo": {
  "rows": 256,
  "cols": 256,
  "dpi": 96,
  "format": "MIXED",
  "compressionQuality": 75,
  "origin": {
   "x": -16806900,
   "y": 19798600
  },
  "spatialReference": {
   "wkid": 102697,
   "latestWkid": 102697
  },
  "lods": [
   {
    "level": 0,
    "resolution": 260.41666666666663,
    "scale": 300000
   },
   {
    "level": 1,
    "resolution": 151.9097222222222,
    "scale": 175000
   },
   {
    "level": 2,
    "resolution": 117.1875,
    "scale": 135000
   },
   {
    "level": 3,
    "resolution": 78.125,
    "scale": 90000
   },
   {
    "level": 4,
    "resolution": 39.0625,
    "scale": 45000
   },
   {
    "level": 5,
    "resolution": 26.041666666666664,
    "scale": 30000
   },
   {
    "level": 6,
    "resolution": 18.57638888888889,
    "scale": 21400
   },
   {
    "level": 7,
    "resolution": 11.11111111111111,
    "scale": 12800
   },
   {
    "level": 8,
    "resolution": 5.555555555555555,
    "scale": 6400
   },
   {
    "level": 9,
    "resolution": 4.166666666666666,
    "scale": 4800
   },
   {
    "level": 10,
    "resolution": 3.125,
    "scale": 3600
   },
   {
    "level": 11,
    "resolution": 2.083333333333333,
    "scale": 2400
   },
   {
    "level": 12,
    "resolution": 1.0416666666666665,
    "scale": 1200
   },
   {
    "level": 13,
    "resolution": 0.5208333333333333,
    "scale": 600
   },
   {
    "level": 14,
    "resolution": 0.26041666666666663,
    "scale": 300
   }
  ]
 },
 "initialExtent": {
  "xmin": 1604908.934419454,
  "ymin": 1088910.9687385454,
  "xmax": 1751393.309419454,
  "ymax": 1177153.1562385454,
  "spatialReference": {
   "wkid": 102697,
   "latestWkid": 102697
  }
 },
 "fullExtent": {
  "xmin": 1620057.6492918357,
  "ymin": 1021279.5559343249,
  "xmax": 1752468.7591410042,
  "ymax": 1243929.2884555126,
  "spatialReference": {
   "wkid": 102697,
   "latestWkid": 102697
  }
 },
 "minScale": 300000,
 "maxScale": 300,
 "units": "esriFeet",
 "supportedImageFormatTypes": "PNG32,PNG24,PNG,JPG,DIB,TIFF,EMF,PS,PDF,GIF,SVG,SVGZ,BMP",
 "documentInfo": {
  "Title": "Slope",
  "Author": "Kenny",
  "Comments": "Slope Map",
  "Subject": "Slope Map",
  "Category": "",
  "AntialiasingMode": "Best",
  "TextAntialiasingMode": "Force",
  "Keywords": "Slope,LiDAR,Elevation,DEM"
 },
 "capabilities": "Data,Map,Query",
 "supportedQueryFormats": "JSON, geoJSON",
 "exportTilesAllowed": false,
 "referenceScale": 0,
 "datumTransformations": [
  {
   "geoTransforms": [
    {
     "wkid": 108001,
     "latestWkid": 1241,
     "transformForward": true,
     "name": "NAD_1927_To_NAD_1983_NADCON"
    }
   ]
  },
  {
   "geoTransforms": [
    {
     "wkid": 108001,
     "latestWkid": 1241,
     "transformForward": false,
     "name": "NAD_1927_To_NAD_1983_NADCON"
    }
   ]
  }
 ],
 "supportsDatumTransformation": true,
 "maxRecordCount": 1000,
 "maxImageHeight": 4096,
 "maxImageWidth": 4096,
 "supportedExtensions": ""
}
