<?xml version="1.0" encoding="UTF-8"?>
<Capabilities xmlns="http://www.opengis.net/wmts/1.0"
xmlns:ows="http://www.opengis.net/ows/1.1"
xmlns:xlink="http://www.w3.org/1999/xlink"
xmlns:xsi="http://www.w3.org/2001/XMLSchema-instance"
xmlns:gml="http://www.opengis.net/gml"
xsi:schemaLocation="http://www.opengis.net/wmts/1.0 http://schemas.opengis.net/wmts/1.0/wmtsGetCapabilities_response.xsd"
version="1.0.0">
<!-- Service Identification --> <ows:ServiceIdentification>
<ows:Title>BASEMAPS_Light_Map</ows:Title>
<ows:ServiceType>OGC WMTS</ows:ServiceType>
<ows:ServiceTypeVersion>1.0.0</ows:ServiceTypeVersion>
</ows:ServiceIdentification> <!-- Operations Metadata --> <ows:OperationsMetadata>
<ows:Operation name="GetCapabilities">
<ows:DCP>
<ows:HTTP>
<ows:Get xlink:href="https://gis.gocolumbiamo.com/arcgis/rest/services/BASEMAPS/Light_Map/MapServer/WMTS/1.0.0/WMTSCapabilities.xml">
<ows:Constraint name="GetEncoding">
<ows:AllowedValues>
<ows:Value>RESTful</ows:Value>
</ows:AllowedValues>
</ows:Constraint>
</ows:Get>
<!-- add KVP binding in 10.1 -->
<ows:Get xlink:href="https://gis.gocolumbiamo.com/arcgis/rest/services/BASEMAPS/Light_Map/MapServer/WMTS?">
<ows:Constraint name="GetEncoding">
<ows:AllowedValues>
<ows:Value>KVP</ows:Value>
</ows:AllowedValues>
</ows:Constraint>
</ows:Get>
</ows:HTTP>
</ows:DCP>
</ows:Operation>
<ows:Operation name="GetTile">
<ows:DCP>
<ows:HTTP>
<ows:Get xlink:href="https://gis.gocolumbiamo.com/arcgis/rest/services/BASEMAPS/Light_Map/MapServer/WMTS/tile/1.0.0/">
<ows:Constraint name="GetEncoding">
<ows:AllowedValues>
<ows:Value>RESTful</ows:Value>
</ows:AllowedValues>
</ows:Constraint>
</ows:Get>
<ows:Get xlink:href="https://gis.gocolumbiamo.com/arcgis/rest/services/BASEMAPS/Light_Map/MapServer/WMTS?">
<ows:Constraint name="GetEncoding">
<ows:AllowedValues>
<ows:Value>KVP</ows:Value>
</ows:AllowedValues>
</ows:Constraint>
</ows:Get>
</ows:HTTP>
</ows:DCP>
</ows:Operation>
</ows:OperationsMetadata> <Contents>
<!--Layer--> <Layer>
<ows:Title>BASEMAPS_Light_Map</ows:Title> <ows:Identifier>BASEMAPS_Light_Map</ows:Identifier>
<ows:BoundingBox crs="urn:ogc:def:crs:EPSG::102697">
<ows:LowerCorner>1498615.798611112 1012068.5763888906</ows:LowerCorner>
<ows:UpperCorner>1874248.177083334 1254632.3784722239</ows:UpperCorner>
</ows:BoundingBox> <ows:WGS84BoundingBox crs="urn:ogc:def:crs:OGC:2:84">
<ows:LowerCorner>-93.00093374971246 38.6102018613447</ows:LowerCorner>
<ows:UpperCorner>-91.67397899550497 39.27908938239504</ows:UpperCorner>
</ows:WGS84BoundingBox>
<Style isDefault="true">
<ows:Title>Default Style</ows:Title>
<ows:Identifier>default</ows:Identifier>
</Style>
<Format>image/jpeg</Format>
<TileMatrixSetLink>
<TileMatrixSet>default028mm</TileMatrixSet>
</TileMatrixSetLink>
<ResourceURL format="image/jpeg" resourceType="tile" template="https://gis.gocolumbiamo.com/arcgis/rest/services/BASEMAPS/Light_Map/MapServer/WMTS/tile/1.0.0/BASEMAPS_Light_Map/{Style}/{TileMatrixSet}/{TileMatrix}/{TileRow}/{TileCol}.jpg" />
</Layer> <!--TileMatrixSet-->
<TileMatrixSet>
<ows:Title>TileMatrix using 0.28mm</ows:Title>
<ows:Abstract>The tile matrix set that has scale values calculated based on the dpi defined by OGC specification (dpi assumes 0.28mm as the physical distance of a pixel).</ows:Abstract> <ows:Identifier>default028mm</ows:Identifier>
<ows:SupportedCRS>urn:ogc:def:crs:EPSG::102697</ows:SupportedCRS>
<TileMatrix>
<ows:Identifier>0</ows:Identifier>
<ScaleDenominator>283482.70982252684</ScaleDenominator>
<TopLeftCorner>-1.68069E7 1.97986E7</TopLeftCorner> <TileWidth>256</TileWidth> <TileHeight>256</TileHeight>
<MatrixWidth>281</MatrixWidth> <MatrixHeight>282</MatrixHeight>
</TileMatrix>
<TileMatrix>
<ows:Identifier>1</ows:Identifier>
<ScaleDenominator>165364.91406314063</ScaleDenominator>
<TopLeftCorner>-1.68069E7 1.97986E7</TopLeftCorner> <TileWidth>256</TileWidth> <TileHeight>256</TileHeight>
<MatrixWidth>481</MatrixWidth> <MatrixHeight>484</MatrixHeight>
</TileMatrix>
<TileMatrix>
<ows:Identifier>2</ows:Identifier>
<ScaleDenominator>127567.21942013709</ScaleDenominator>
<TopLeftCorner>-1.68069E7 1.97986E7</TopLeftCorner> <TileWidth>256</TileWidth> <TileHeight>256</TileHeight>
<MatrixWidth>623</MatrixWidth> <MatrixHeight>627</MatrixHeight>
</TileMatrix>
<TileMatrix>
<ows:Identifier>3</ows:Identifier>
<ScaleDenominator>85044.81294675806</ScaleDenominator>
<TopLeftCorner>-1.68069E7 1.97986E7</TopLeftCorner> <TileWidth>256</TileWidth> <TileHeight>256</TileHeight>
<MatrixWidth>935</MatrixWidth> <MatrixHeight>940</MatrixHeight>
</TileMatrix>
<TileMatrix>
<ows:Identifier>4</ows:Identifier>
<ScaleDenominator>42522.40647337903</ScaleDenominator>
<TopLeftCorner>-1.68069E7 1.97986E7</TopLeftCorner> <TileWidth>256</TileWidth> <TileHeight>256</TileHeight>
<MatrixWidth>1869</MatrixWidth> <MatrixHeight>1879</MatrixHeight>
</TileMatrix>
<TileMatrix>
<ows:Identifier>5</ows:Identifier>
<ScaleDenominator>28348.270982252685</ScaleDenominator>
<TopLeftCorner>-1.68069E7 1.97986E7</TopLeftCorner> <TileWidth>256</TileWidth> <TileHeight>256</TileHeight>
<MatrixWidth>2803</MatrixWidth> <MatrixHeight>2818</MatrixHeight>
</TileMatrix>
<TileMatrix>
<ows:Identifier>6</ows:Identifier>
<ScaleDenominator>20221.766634006915</ScaleDenominator>
<TopLeftCorner>-1.68069E7 1.97986E7</TopLeftCorner> <TileWidth>256</TileWidth> <TileHeight>256</TileHeight>
<MatrixWidth>3929</MatrixWidth> <MatrixHeight>3951</MatrixHeight>
</TileMatrix>
<TileMatrix>
<ows:Identifier>7</ows:Identifier>
<ScaleDenominator>12095.262285761146</ScaleDenominator>
<TopLeftCorner>-1.68069E7 1.97986E7</TopLeftCorner> <TileWidth>256</TileWidth> <TileHeight>256</TileHeight>
<MatrixWidth>6568</MatrixWidth> <MatrixHeight>6605</MatrixHeight>
</TileMatrix>
<TileMatrix>
<ows:Identifier>8</ows:Identifier>
<ScaleDenominator>6047.631142880573</ScaleDenominator>
<TopLeftCorner>-1.68069E7 1.97986E7</TopLeftCorner> <TileWidth>256</TileWidth> <TileHeight>256</TileHeight>
<MatrixWidth>13136</MatrixWidth> <MatrixHeight>13210</MatrixHeight>
</TileMatrix>
<TileMatrix>
<ows:Identifier>9</ows:Identifier>
<ScaleDenominator>4535.723357160429</ScaleDenominator>
<TopLeftCorner>-1.68069E7 1.97986E7</TopLeftCorner> <TileWidth>256</TileWidth> <TileHeight>256</TileHeight>
<MatrixWidth>17514</MatrixWidth> <MatrixHeight>17613</MatrixHeight>
</TileMatrix>
<TileMatrix>
<ows:Identifier>10</ows:Identifier>
<ScaleDenominator>3401.792517870322</ScaleDenominator>
<TopLeftCorner>-1.68069E7 1.97986E7</TopLeftCorner> <TileWidth>256</TileWidth> <TileHeight>256</TileHeight>
<MatrixWidth>23352</MatrixWidth> <MatrixHeight>23484</MatrixHeight>
</TileMatrix>
<TileMatrix>
<ows:Identifier>11</ows:Identifier>
<ScaleDenominator>2267.8616785802146</ScaleDenominator>
<TopLeftCorner>-1.68069E7 1.97986E7</TopLeftCorner> <TileWidth>256</TileWidth> <TileHeight>256</TileHeight>
<MatrixWidth>35028</MatrixWidth> <MatrixHeight>35225</MatrixHeight>
</TileMatrix>
<TileMatrix>
<ows:Identifier>12</ows:Identifier>
<ScaleDenominator>1133.9308392901073</ScaleDenominator>
<TopLeftCorner>-1.68069E7 1.97986E7</TopLeftCorner> <TileWidth>256</TileWidth> <TileHeight>256</TileHeight>
<MatrixWidth>70055</MatrixWidth> <MatrixHeight>70450</MatrixHeight>
</TileMatrix>
<TileMatrix>
<ows:Identifier>13</ows:Identifier>
<ScaleDenominator>566.9654196450537</ScaleDenominator>
<TopLeftCorner>-1.68069E7 1.97986E7</TopLeftCorner> <TileWidth>256</TileWidth> <TileHeight>256</TileHeight>
<MatrixWidth>140109</MatrixWidth> <MatrixHeight>140899</MatrixHeight>
</TileMatrix>
<TileMatrix>
<ows:Identifier>14</ows:Identifier>
<ScaleDenominator>283.48270982252683</ScaleDenominator>
<TopLeftCorner>-1.68069E7 1.97986E7</TopLeftCorner> <TileWidth>256</TileWidth> <TileHeight>256</TileHeight>
<MatrixWidth>280218</MatrixWidth> <MatrixHeight>281798</MatrixHeight>
</TileMatrix>
</TileMatrixSet>
</Contents>
<ServiceMetadataURL xlink:href="https://gis.gocolumbiamo.com/arcgis/rest/services/BASEMAPS/Light_Map/MapServer/WMTS/1.0.0/WMTSCapabilities.xml" /> </Capabilities>
