{
 "currentVersion": 10.81,
 "serviceDescription": "This map represents a visualization of the bare-earth Digital Terrain Data through Hillshading. The hillshade was created from 2019 bare-earth LiDAR data. The terrain data was acquired via Light Detection and Ranging (LiDAR) airborne platform in November, 2019. The LiDAR was acquired with an elevation measurement approximately every 2 feet with a vertical accuracy of 6 inches. Contact the City of Columbia IT/GIS Division with questions about this data.",
 "mapName": "Elevation",
 "description": "",
 "copyrightText": "Cartography by City of Columbia IT/GIS Divisione. Hillshade created by the City of Columbia and the source LiDAR data provided by Boone County, Missouri.",
 "supportsDynamicLayers": false,
 "layers": [],
 "tables": [],
 "spatialReference": {
  "wkid": 102697,
  "latestWkid": 102697
 },
 "singleFusedMapCache": true,
 "tileInfo": {
  "rows": 256,
  "cols": 256,
  "dpi": 96,
  "format": "MIXED",
  "compressionQuality": 75,
  "origin": {
   "x": -16806900,
   "y": 19798600
  },
  "spatialReference": {
   "wkid": 102697,
   "latestWkid": 102697
  },
  "lods": [
   {
    "level": 0,
    "resolution": 260.41666666666663,
    "scale": 300000
   },
   {
    "level": 1,
    "resolution": 151.9097222222222,
    "scale": 175000
   },
   {
    "level": 2,
    "resolution": 117.1875,
    "scale": 135000
   },
   {
    "level": 3,
    "resolution": 78.125,
    "scale": 90000
   },
   {
    "level": 4,
    "resolution": 39.0625,
    "scale": 45000
   },
   {
    "level": 5,
    "resolution": 26.041666666666664,
    "scale": 30000
   },
   {
    "level": 6,
    "resolution": 18.57638888888889,
    "scale": 21400
   },
   {
    "level": 7,
    "resolution": 11.11111111111111,
    "scale": 12800
   },
   {
    "level": 8,
    "resolution": 5.555555555555555,
    "scale": 6400
   },
   {
    "level": 9,
    "resolution": 4.166666666666666,
    "scale": 4800
   },
   {
    "level": 10,
    "resolution": 3.125,
    "scale": 3600
   },
   {
    "level": 11,
    "resolution": 2.083333333333333,
    "scale": 2400
   },
   {
    "level": 12,
    "resolution": 1.0416666666666665,
    "scale": 1200
   },
   {
    "level": 13,
    "resolution": 0.5208333333333333,
    "scale": 600
   },
   {
    "level": 14,
    "resolution": 0.26041666666666663,
    "scale": 300
   }
  ]
 },
 "initialExtent": {
  "xmin": 1537318.4985279685,
  "ymin": 1025094.6516192345,
  "xmax": 1835581.5014720315,
  "ymax": 1241505.3483807654,
  "spatialReference": {
   "wkid": 102697,
   "latestWkid": 102697
  }
 },
 "fullExtent": {
  "xmin": "NaN",
  "ymin": "NaN",
  "xmax": "NaN",
  "ymax": "NaN",
  "spatialReference": {
   "wkid": 102697,
   "latestWkid": 102697
  }
 },
 "minScale": 300000,
 "maxScale": 300,
 "units": "esriFeet",
 "supportedImageFormatTypes": "PNG32,PNG24,PNG,JPG,DIB,TIFF,EMF,PS,PDF,GIF,SVG,SVGZ,BMP",
 "documentInfo": {
  "Title": "Bare Earth Elevation Hillshade",
  "Author": "Kenny",
  "Comments": "Bare Earth Elevation Hillshade",
  "Subject": "Bare Earth Elevation Hillshade",
  "Category": "",
  "AntialiasingMode": "Best",
  "TextAntialiasingMode": "Force",
  "Keywords": "LiDAR,Columbia,Contours,Terrain,Topography,Hillshade"
 },
 "capabilities": "Data,Map,Query",
 "supportedQueryFormats": "JSON, geoJSON",
 "exportTilesAllowed": false,
 "referenceScale": 0,
 "datumTransformations": [
  {
   "geoTransforms": [
    {
     "wkid": 108001,
     "latestWkid": 1241,
     "transformForward": true,
     "name": "NAD_1927_To_NAD_1983_NADCON"
    }
   ]
  },
  {
   "geoTransforms": [
    {
     "wkid": 108001,
     "latestWkid": 1241,
     "transformForward": false,
     "name": "NAD_1927_To_NAD_1983_NADCON"
    }
   ]
  }
 ],
 "supportsDatumTransformation": true,
 "maxRecordCount": 1000,
 "maxImageHeight": 4096,
 "maxImageWidth": 4096,
 "supportedExtensions": "WMSServer"
}
