{
 "currentVersion": 10.81,
 "serviceDescription": "Aerial Imagery flown by Nearmap in March of 2022. The 3-band, natural color imagery has a resolution of 2.75 inches. The aerial imagery covers an area that encompasses the entire City of Columbia plus an area around the city. If you have any questions on this imagery, please contact the IT/GIS Division with the City of Columbia.",
 "mapName": "Layers",
 "description": "",
 "copyrightText": "Source: Aerial Imagery is property of Nearmap. https://www.nearmap.com/us/en",
 "supportsDynamicLayers": true,
 "layers": [
  {
   "id": 0,
   "name": "Imagery March 2022",
   "parentLayerId": -1,
   "defaultVisibility": true,
   "subLayerIds": null,
   "minScale": 0,
   "maxScale": 0,
   "type": "Raster Layer"
  }
 ],
 "tables": [],
 "spatialReference": {
  "wkid": 102697,
  "latestWkid": 102697
 },
 "singleFusedMapCache": true,
 "tileInfo": {
  "rows": 256,
  "cols": 256,
  "dpi": 96,
  "format": "MIXED",
  "compressionQuality": 75,
  "origin": {
   "x": -16806900,
   "y": 19798600
  },
  "spatialReference": {
   "wkid": 102697,
   "latestWkid": 102697
  },
  "lods": [
   {
    "level": 0,
    "resolution": 260.41666666666663,
    "scale": 300000
   },
   {
    "level": 1,
    "resolution": 151.9097222222222,
    "scale": 175000
   },
   {
    "level": 2,
    "resolution": 117.1875,
    "scale": 135000
   },
   {
    "level": 3,
    "resolution": 78.125,
    "scale": 90000
   },
   {
    "level": 4,
    "resolution": 39.0625,
    "scale": 45000
   },
   {
    "level": 5,
    "resolution": 26.041666666666664,
    "scale": 30000
   },
   {
    "level": 6,
    "resolution": 18.57638888888889,
    "scale": 21400
   },
   {
    "level": 7,
    "resolution": 11.11111111111111,
    "scale": 12800
   },
   {
    "level": 8,
    "resolution": 5.555555555555555,
    "scale": 6400
   },
   {
    "level": 9,
    "resolution": 4.166666666666666,
    "scale": 4800
   },
   {
    "level": 10,
    "resolution": 3.125,
    "scale": 3600
   },
   {
    "level": 11,
    "resolution": 2.083333333333333,
    "scale": 2400
   },
   {
    "level": 12,
    "resolution": 1.0416666666666665,
    "scale": 1200
   },
   {
    "level": 13,
    "resolution": 0.5208333333333333,
    "scale": 600
   }
  ]
 },
 "initialExtent": {
  "xmin": 1621619.037481273,
  "ymin": 1082138.8184512437,
  "xmax": 1772009.662481273,
  "ymax": 1182008.6101179102,
  "spatialReference": {
   "wkid": 102697,
   "latestWkid": 102697
  }
 },
 "fullExtent": {
  "xmin": 1640200.039680902,
  "ymin": 1070799.971963212,
  "xmax": 1737700.039680902,
  "ymax": 1178299.971963212,
  "spatialReference": {
   "wkid": 102697,
   "latestWkid": 102697
  }
 },
 "minScale": 300000,
 "maxScale": 600,
 "units": "esriFeet",
 "supportedImageFormatTypes": "PNG32,PNG24,PNG,JPG,DIB,TIFF,EMF,PS,PDF,GIF,SVG,SVGZ,BMP",
 "documentInfo": {
  "Title": "",
  "Author": "",
  "Comments": "Aerial Imagery flown by Nearmap in February of 2020. The 3-band, natural color imagery has a resolution of 2.75 inches. The aerial imagery is licensed. Therefore, the imagery can only be shared with City of Columbia, MO employees. The imagery is restricted and CAN NOT BE DISTRIBUTED IN ANY FORMAT to people that don't work for the City of Columbia, MO. The aerial imagery covers an area that encompasses the entire City of Columbia plus an area around the city. If you have any questions on this imagery, please contact the IT/GIS Division with the City of Columbia.",
  "Subject": "Aerial Imagery flown by Nearmap in February of 2020. The 3-band, natural color imagery has a resolution of 2.75 inches. The aerial imagery is licensed. Therefore, the imagery can only be shared with City of Columbia, MO employees. The imagery is ",
  "Category": "",
  "AntialiasingMode": "Best",
  "TextAntialiasingMode": "Force",
  "Keywords": "Aerial Imagery,Nearmap,2022,photos,Natural Color"
 },
 "capabilities": "Map",
 "supportedQueryFormats": "JSON, geoJSON",
 "exportTilesAllowed": false,
 "referenceScale": 0,
 "supportsDatumTransformation": true,
 "maxRecordCount": 1000,
 "maxImageHeight": 4096,
 "maxImageWidth": 4096,
 "supportedExtensions": "WMSServer"
}
